BEGIN:VCALENDAR
PRODID:-//AT Content Types//AT Event//EN
VERSION:1.0
BEGIN:VEVENT
DTSTART:20210715T173000Z
DTEND:20210715T190000Z
DCREATED:20210324T121646Z
UID:ATEvent-d3bb046b615443d5b2740165e162d733
SEQUENCE:0
LAST-MODIFIED:20210702T141909Z
SUMMARY:Matt and The Peabody Ducks
DESCRIPTION:Encamp en Clau de Llum Encamp
LOCATION:Plaça de Sant Miquel
PRIORITY:3
TRANSP:0
END:VEVENT
END:VCALENDAR
