BEGIN:VCALENDAR
PRODID:-//AT Content Types//AT Event//EN
VERSION:2.0
METHOD:PUBLISH
BEGIN:VEVENT
DTSTAMP:20210829T122134Z
CREATED:20210324T091035Z
UID:ATEvent-0a6321a2741b427e99b35553e77c3882
LAST-MODIFIED:20210702T140933Z
SUMMARY:Noa Ashti
DTSTART:20210729T173000Z
DTEND:20210729T190000Z
DESCRIPTION:Encamp en Clau de Llum
LOCATION:Plaça de Sant Miquel
CATEGORIES:Espectacles
CONTACT:Departament de Cultura d'Encamp\, +376731490\, cultura@encamp.ad
CLASS:PUBLIC
END:VEVENT
END:VCALENDAR
