BEGIN:VCALENDAR
PRODID:-//AT Content Types//AT Event//EN
VERSION:2.0
METHOD:PUBLISH
BEGIN:VEVENT
DTSTAMP:20210829T121913Z
CREATED:20210323T155517Z
UID:ATEvent-214dd5fa13744c24aa9addd9967cf4d8
LAST-MODIFIED:20210712T083418Z
SUMMARY:Oncarrer Encamp
DTSTART:20210714T170000Z
DTEND:20210714T180000Z
LOCATION:Plaça de Sant Miquel
CATEGORIES:Espectacles
CONTACT:Departament de Cultura d'Encamp\, +376731490\, cultura@encamp.ad
CLASS:PUBLIC
END:VEVENT
END:VCALENDAR
