BEGIN:VCALENDAR
PRODID:-//AT Content Types//AT Event//EN
VERSION:1.0
BEGIN:VEVENT
DTSTART:20210901T140000Z
DTEND:20210901T150000Z
DCREATED:20210628T095357Z
UID:ATEvent-19665aa47c8d419db53c772031c68388
SEQUENCE:0
LAST-MODIFIED:20210702T142333Z
SUMMARY:Hashtag
DESCRIPTION:Encamp en Clau de Llum
LOCATION:Plaça de l'Església
PRIORITY:3
TRANSP:0
END:VEVENT
END:VCALENDAR
