BEGIN:VCALENDAR
PRODID:-//AT Content Types//AT Event//EN
VERSION:2.0
METHOD:PUBLISH
BEGIN:VEVENT
DTSTAMP:20210817T203023Z
CREATED:20210324T123413Z
UID:ATEvent-ff33beb16f6b4154b39a987d88b924f9
LAST-MODIFIED:20210716T090350Z
SUMMARY:Diada de la Mare de Déu de l'Oratori
DTSTART:20210904T100000Z
DTEND:20210904T110000Z
LOCATION:Camí Ral de les Bons
CATEGORIES:Diades i actes religiosos
CONTACT:Departament de Cultura d'Encamp\, +376731490\, cultura@encamp.ad
CLASS:PUBLIC
END:VEVENT
END:VCALENDAR
