BEGIN:VCALENDAR
PRODID:-//AT Content Types//AT Event//EN
VERSION:1.0
BEGIN:VEVENT
DTSTART:20170808T160000Z
DTEND:20170808T170000Z
DCREATED:20170621T173738Z
UID:ATEvent-49fc048b7f2d4e27b0575959c1550bde
SEQUENCE:0
LAST-MODIFIED:20170621T173931Z
SUMMARY:Tardes d'estiu a Encamp amb 'Que peti la plaça'
LOCATION:Prat Gran d'Encamp
PRIORITY:3
TRANSP:0
END:VEVENT
END:VCALENDAR
