BEGIN:VCALENDAR
PRODID:-//AT Content Types//AT Event//EN
VERSION:1.0
BEGIN:VEVENT
DTSTART:20170821T130000Z
DTEND:20170821T140000Z
DCREATED:20170621T174652Z
UID:ATEvent-da5f9b5d4e0b496f9fda89e852790a9a
SEQUENCE:0
LAST-MODIFIED:20170621T174851Z
SUMMARY:Tardes d'estiu al Pas de la Casa amb 'Festa de l'escuma amb disco mòbil'
LOCATION:Plaça de l'Església al Pas de la Casa
PRIORITY:3
TRANSP:0
END:VEVENT
END:VCALENDAR
