BEGIN:VCALENDAR
PRODID:-//AT Content Types//AT Event//EN
VERSION:1.0
BEGIN:VEVENT
DTSTART:20200729T170000Z
DTEND:20200729T183000Z
DCREATED:20200721T082613Z
UID:ATEvent-00042e47568b4e928e76966ecb79df59
SEQUENCE:0
LAST-MODIFIED:20200722T072056Z
SUMMARY:Pilates
DESCRIPTION:Comencem les activitats gratuïtes i dirigides a càrrec d
 e Valeria Barisso a l'aire lliure durant el mes de juliol\, reserva al
  +376646194.
LOCATION:Prat Gran
PRIORITY:3
TRANSP:0
END:VEVENT
END:VCALENDAR
