BEGIN:VCALENDAR
PRODID:-//AT Content Types//AT Event//EN
VERSION:2.0
METHOD:PUBLISH
BEGIN:VEVENT
DTSTAMP:20210830T022209Z
CREATED:20200721T080736Z
UID:ATEvent-f1812acaf61b4e4aa47ad88f39f1e104
LAST-MODIFIED:20200722T072032Z
SUMMARY:Ioga
DTSTART:20200728T070000Z
DTEND:20200728T083000Z
DESCRIPTION:Comencem les activitats gratuïtes i dirigides a càrrec d
 e Valeria Barisso a l'aire lliure durant el mes de juliol\, \nreserva 
 al +376646194.
LOCATION:La Mola
CATEGORIES:Esports
CLASS:PUBLIC
END:VEVENT
END:VCALENDAR
