BEGIN:VCALENDAR
PRODID:-//AT Content Types//AT Event//EN
VERSION:1.0
BEGIN:VEVENT
DTSTART:20160717T220000Z
DTEND:20160723T220000Z
DCREATED:20160708T140546Z
UID:ATEvent-be8da04d141447f6aa4066f297a13bf2
SEQUENCE:0
LAST-MODIFIED:20160714T101012Z
SUMMARY:I Torneig de Tennis a Encamp
DESCRIPTION:Modalitats masculina i femina per a lliga de socis i open 
 individual o dobles
LOCATION:Zona esportiva de Prada de Moles
PRIORITY:3
TRANSP:0
END:VEVENT
END:VCALENDAR
