BEGIN:VCALENDAR
PRODID:-//AT Content Types//AT Event//EN
VERSION:1.0
BEGIN:VEVENT
DTSTART:20210904T090000Z
DTEND:20210904T110000Z
DCREATED:20210702T154505Z
UID:ATEvent-1827c61f24654d25a3ad88e528641834
SEQUENCE:0
LAST-MODIFIED:20210702T154848Z
SUMMARY:Activitats Engolasters Estiu 2021
DESCRIPTION:Tallers Infantils de Natura: Contes i llegendes d'Engolast
 ers
PRIORITY:3
TRANSP:0
END:VEVENT
END:VCALENDAR
