BEGIN:VCALENDAR
PRODID:-//AT Content Types//AT Event//EN
VERSION:2.0
METHOD:PUBLISH
BEGIN:VEVENT
DTSTAMP:20210829T064247Z
CREATED:20151014T101705Z
UID:ATEvent-25c33a1150ba4810b6d9ff6888a3fb2e
LAST-MODIFIED:20151014T102011Z
SUMMARY:4a edició del Campionat d'Scrabble en català al Pas de la Casa
DTSTART:20151030T170000Z
DTEND:20151030T203000Z
LOCATION:Biblioteca Comunal del Pas de la Casa
CATEGORIES:Premis i concursos
CONTACT:Biblioteca Comunal del Pas de la Casa\, al telèfon (00 376) 856 787
CLASS:PUBLIC
END:VEVENT
END:VCALENDAR
