BEGIN:VCALENDAR
PRODID:-//AT Content Types//AT Event//EN
VERSION:1.0
BEGIN:VEVENT
DTSTART:20210828T090000Z
DTEND:20210828T110000Z
DCREATED:20210702T155443Z
UID:ATEvent-ccd5b8c56c5142ada5e4ecc02cc5362a
SEQUENCE:0
LAST-MODIFIED:20210702T160022Z
SUMMARY:Activitats Engolasters Estiu 2021
DESCRIPTION:Tallers Infantils de Natura: Conecta amb la natura
PRIORITY:3
TRANSP:0
END:VEVENT
END:VCALENDAR
