BEGIN:VCALENDAR
PRODID:-//AT Content Types//AT Event//EN
VERSION:1.0
BEGIN:VEVENT
DTSTART:20200815T080000Z
DTEND:20200815T090000Z
DCREATED:20200731T080946Z
UID:ATEvent-b862430ef3704fc796e4b258243686b1
SEQUENCE:0
LAST-MODIFIED:20200731T105351Z
SUMMARY:Ioga
DESCRIPTION:Última activitat gratuïta i dirigida a càrrec de Valeri
 a Barisso a l'aire lliure durant el mes d'agost\, reserva al +37664619
 4.\nNo t'ho perdis!
LOCATION:Llac d'Engolasters
PRIORITY:3
TRANSP:0
END:VEVENT
END:VCALENDAR
