BEGIN:VCALENDAR
PRODID:-//AT Content Types//AT Event//EN
VERSION:2.0
METHOD:PUBLISH
BEGIN:VEVENT
DTSTAMP:20210830T022242Z
CREATED:20200731T080710Z
UID:ATEvent-a5fa36480d994e55aea54a00e61093b2
LAST-MODIFIED:20200731T105329Z
SUMMARY:Pilates
DTSTART:20200813T183000Z
DTEND:20200813T193000Z
DESCRIPTION:Comencem les activitats gratuïtes i dirigides a càrrec d
 e Valeria Barisso a l'aire lliure durant el mes d'agost\, reserva al +
 376646194.
LOCATION:Prat Gran
CATEGORIES:Esports
CLASS:PUBLIC
END:VEVENT
END:VCALENDAR
