BEGIN:VCALENDAR
PRODID:-//AT Content Types//AT Event//EN
VERSION:1.0
BEGIN:VEVENT
DTSTART:20210903T080000Z
DTEND:20210903T090000Z
DCREATED:20210625T113121Z
UID:ATEvent-f9161308e101457a8bab73312bacf886
SEQUENCE:0
LAST-MODIFIED:20210712T131421Z
SUMMARY:Novetat: Marxa nòrdica
DESCRIPTION:NOVETAT! Activitats dirigides gratuïtes a l'aire lliure
LOCATION:Piscina del Prat Gran (La Mola)
PRIORITY:3
TRANSP:0
END:VEVENT
END:VCALENDAR
