BEGIN:VCALENDAR
PRODID:-//AT Content Types//AT Event//EN
VERSION:1.0
BEGIN:VEVENT
DTSTART:20210820T080000Z
DTEND:20210820T090000Z
DCREATED:20210625T113116Z
UID:ATEvent-415f9106d56b4e95a96cd3bcdd7a26b6
SEQUENCE:0
LAST-MODIFIED:20210712T131406Z
SUMMARY:Novetat: Marxa nòrdica
DESCRIPTION:NOVETAT! Activitats dirigides gratuïtes a l'aire lliure
LOCATION:Piscina del Prat Gran (La Mola)
PRIORITY:3
TRANSP:0
END:VEVENT
END:VCALENDAR
