BEGIN:VCALENDAR
PRODID:-//AT Content Types//AT Event//EN
VERSION:2.0
METHOD:PUBLISH
BEGIN:VEVENT
DTSTAMP:20210817T202902Z
CREATED:20210625T111838Z
UID:ATEvent-ae1d5a9a9f8d4885b7a1e3ddaa9a5637
LAST-MODIFIED:20210712T124511Z
SUMMARY:Ioga a la Piscina del Prat Gran
DTSTART:20210831T181500Z
DTEND:20210831T191500Z
DESCRIPTION:Activitats dirigides gratuïtes a l'aire lliure
LOCATION:Piscina del Prat Gran (La Mola)
CATEGORIES:Esports
CONTACT:Complex Esportiu d'Encamp\, 732700
CLASS:PUBLIC
END:VEVENT
END:VCALENDAR
