BEGIN:VCALENDAR
PRODID:-//AT Content Types//AT Event//EN
VERSION:2.0
METHOD:PUBLISH
BEGIN:VEVENT
DTSTAMP:20210817T202723Z
CREATED:20210625T111836Z
UID:ATEvent-b95caafe61d445db99fcd7b74a1de6a1
LAST-MODIFIED:20210712T130120Z
SUMMARY:Ioga a la Piscina del Prat Gran
DTSTART:20210826T181500Z
DTEND:20210826T191500Z
DESCRIPTION:Activitats dirigides gratuïtes a l'aire lliure
LOCATION:Piscina del Prat Gran (La Mola)
CATEGORIES:Esports
CONTACT:Complex Esportiu d'Encamp\, 732700
CLASS:PUBLIC
END:VEVENT
END:VCALENDAR
