BEGIN:VCALENDAR
PRODID:-//AT Content Types//AT Event//EN
VERSION:2.0
METHOD:PUBLISH
BEGIN:VEVENT
DTSTAMP:20210817T202946Z
CREATED:20210625T111833Z
UID:ATEvent-b3ea48c8b96049988fe36114d0757054
LAST-MODIFIED:20210712T124612Z
SUMMARY:Ioga a la Piscina del Prat Gran
DTSTART:20210902T181500Z
DTEND:20210902T191500Z
DESCRIPTION:Activitats dirigides gratuïtes a l'aire lliure
LOCATION:Piscina del Prat Gran (La Mola)
CATEGORIES:Esports
CONTACT:Complex Esportiu d'Encamp\, 732700
CLASS:PUBLIC
END:VEVENT
END:VCALENDAR
