BEGIN:VCALENDAR
PRODID:-//AT Content Types//AT Event//EN
VERSION:2.0
METHOD:PUBLISH
BEGIN:VEVENT
DTSTAMP:20210817T202643Z
CREATED:20210625T111831Z
UID:ATEvent-a7d9ebea6e934fd380a679060eac7fef
LAST-MODIFIED:20210712T125416Z
SUMMARY:Ioga a la Piscina del Prat Gran
DTSTART:20210824T181500Z
DTEND:20210824T191500Z
DESCRIPTION:Activitats dirigides gratuïtes a l'aire lliure
LOCATION:Piscina del Prat Gran (La Mola)
CATEGORIES:Esports
CONTACT:Complex Esportiu d'Encamp\, 732700
CLASS:PUBLIC
END:VEVENT
END:VCALENDAR
