BEGIN:VCALENDAR
PRODID:-//AT Content Types//AT Event//EN
VERSION:1.0
BEGIN:VEVENT
DTSTART:20210819T181500Z
DTEND:20210819T191500Z
DCREATED:20210625T111828Z
UID:ATEvent-617a925b5bf1438aa16b1400c99e27bd
SEQUENCE:0
LAST-MODIFIED:20210712T125324Z
SUMMARY:Ioga a la Piscina del Prat Gran
DESCRIPTION:Activitats dirigides gratuïtes a l'aire lliure
LOCATION:Piscina del Prat Gran (La Mola)
PRIORITY:3
TRANSP:0
END:VEVENT
END:VCALENDAR
