BEGIN:VCALENDAR
PRODID:-//AT Content Types//AT Event//EN
VERSION:2.0
METHOD:PUBLISH
BEGIN:VEVENT
DTSTAMP:20210830T022251Z
CREATED:20200731T080710Z
UID:ATEvent-00404232bf9c4021930067e2d84a7e78
LAST-MODIFIED:20200731T105308Z
SUMMARY:Pilates
DTSTART:20200811T183000Z
DTEND:20200811T193000Z
DESCRIPTION:Comencem les activitats gratuïtes i dirigides a càrrec d
 e Valeria Barisso a l'aire lliure durant el mes d'agost\, reserva al +
 376646194.
LOCATION:Prat Gran
CATEGORIES:Esports
CLASS:PUBLIC
END:VEVENT
END:VCALENDAR
