BEGIN:VCALENDAR
PRODID:-//AT Content Types//AT Event//EN
VERSION:2.0
METHOD:PUBLISH
BEGIN:VEVENT
DTSTAMP:20210817T203038Z
CREATED:20210716T091918Z
UID:ATEvent-cce13dc7f66d42c3a6706a5dac94287e
LAST-MODIFIED:20210721T093315Z
SUMMARY:Mercats d'estiu - Encamp
DTSTART:20210909T220000Z
DTEND:20210912T215500Z
CATEGORIES:Concentracions i trobades
CLASS:PUBLIC
END:VEVENT
END:VCALENDAR
