BEGIN:VCALENDAR
PRODID:-//AT Content Types//AT Event//EN
VERSION:2.0
METHOD:PUBLISH
BEGIN:VEVENT
DTSTAMP:20210817T202854Z
CREATED:20210625T105300Z
UID:ATEvent-ccedf583dc1342b6a70ea43e60f0c970
LAST-MODIFIED:20210712T131057Z
SUMMARY:Aiguagim a la Piscina del Prat Gran
DTSTART:20210831T171500Z
DTEND:20210831T180000Z
DESCRIPTION:Activitats dirigides gratuïtes a l'aire lliure
LOCATION:Piscina del Prat Gran (La Mola)
CATEGORIES:Esports
CONTACT:Complex Esportiu d'Encamp\, 732700
CLASS:PUBLIC
END:VEVENT
END:VCALENDAR
