BEGIN:VCALENDAR
PRODID:-//AT Content Types//AT Event//EN
VERSION:2.0
METHOD:PUBLISH
BEGIN:VEVENT
DTSTAMP:20210817T202701Z
CREATED:20210625T105257Z
UID:ATEvent-ee1de426182d4a4a8bc24194ad5bb587
LAST-MODIFIED:20210712T130855Z
SUMMARY:Aiguagim a la Piscina del Prat Gran
DTSTART:20210826T171500Z
DTEND:20210826T180000Z
DESCRIPTION:Activitats dirigides gratuïtes a l'aire lliure
LOCATION:Piscina del Prat Gran (La Mola)
CATEGORIES:Esports
CONTACT:Complex Esportiu d'Encamp\, 732700
CLASS:PUBLIC
END:VEVENT
END:VCALENDAR
