BEGIN:VCALENDAR
PRODID:-//AT Content Types//AT Event//EN
VERSION:1.0
BEGIN:VEVENT
DTSTART:20210824T171500Z
DTEND:20210824T180000Z
DCREATED:20210625T105254Z
UID:ATEvent-369e34d3b1d6461393c360c9588f43f1
SEQUENCE:0
LAST-MODIFIED:20210712T130835Z
SUMMARY:Aiguagim a la Piscina del Prat Gran
DESCRIPTION:Activitats dirigides gratuïtes a l'aire lliure
LOCATION:Piscina del Prat Gran (La Mola)
PRIORITY:3
TRANSP:0
END:VEVENT
END:VCALENDAR
