BEGIN:VCALENDAR
PRODID:-//AT Content Types//AT Event//EN
VERSION:1.0
BEGIN:VEVENT
DTSTART:20200801T080000Z
DTEND:20200801T093000Z
DCREATED:20200721T080828Z
UID:ATEvent-4701c5af3ba44f1c8de9bbc3dbfef507
SEQUENCE:0
LAST-MODIFIED:20200731T105104Z
SUMMARY:Ioga
DESCRIPTION:Comencem les activitats gratuïtes i dirigides a càrrec d
 e Valeria Barisso a l'aire lliure durant el mes de juliol\, reserva al
  +376646194.
LOCATION:Les Bons
PRIORITY:3
TRANSP:0
END:VEVENT
END:VCALENDAR
