BEGIN:VCALENDAR
PRODID:-//AT Content Types//AT Event//EN
VERSION:1.0
BEGIN:VEVENT
DTSTART:20210902T171500Z
DTEND:20210902T180000Z
DCREATED:20210625T105232Z
UID:ATEvent-0cf4ac6d3dd44ddb921438ef3a556f46
SEQUENCE:0
LAST-MODIFIED:20210712T131120Z
SUMMARY:Aiguagim a la Piscina del Prat Gran
DESCRIPTION:Activitats dirigides gratuïtes a l'aire lliure
LOCATION:Piscina del Prat Gran (La Mola)
PRIORITY:3
TRANSP:0
END:VEVENT
END:VCALENDAR
