BEGIN:VCALENDAR
PRODID:-//AT Content Types//AT Event//EN
VERSION:2.0
METHOD:PUBLISH
BEGIN:VEVENT
DTSTAMP:20210817T202927Z
CREATED:20210625T094947Z
UID:ATEvent-0cf9577e0cbd451f88209a06fd54ad1c
LAST-MODIFIED:20210712T124345Z
SUMMARY:Cycling
DTSTART:20210901T170000Z
DTEND:20210901T191500Z
DESCRIPTION:Activitats dirigides gratuïtes a l'aire lliure
LOCATION:Plaça dels Arínsols
CATEGORIES:Esports
CLASS:PUBLIC
END:VEVENT
END:VCALENDAR
