BEGIN:VCALENDAR
PRODID:-//AT Content Types//AT Event//EN
VERSION:1.0
BEGIN:VEVENT
DTSTART:20210830T170000Z
DTEND:20210830T191500Z
DCREATED:20210625T094945Z
UID:ATEvent-d204b57ce8d440a9935c43bcaef07d86
SEQUENCE:0
LAST-MODIFIED:20210712T124331Z
SUMMARY:Cycling
DESCRIPTION:Activitats dirigides gratuïtes a l'aire lliure
LOCATION:Plaça dels Arínsols
PRIORITY:3
TRANSP:0
END:VEVENT
END:VCALENDAR
