BEGIN:VCALENDAR
PRODID:-//AT Content Types//AT Event//EN
VERSION:1.0
BEGIN:VEVENT
DTSTART:20210825T170000Z
DTEND:20210825T191500Z
DCREATED:20210625T094942Z
UID:ATEvent-83faadf6f0ba451d83f60cd9f8b47451
SEQUENCE:0
LAST-MODIFIED:20210712T124312Z
SUMMARY:Cycling
DESCRIPTION:Activitats dirigides gratuïtes a l'aire lliure
LOCATION:Plaça dels Arínsols
PRIORITY:3
TRANSP:0
END:VEVENT
END:VCALENDAR
