BEGIN:VCALENDAR
PRODID:-//AT Content Types//AT Event//EN
VERSION:1.0
BEGIN:VEVENT
DTSTART:20210823T170000Z
DTEND:20210823T191500Z
DCREATED:20210625T094939Z
UID:ATEvent-5341473d19534dac9717a1af0912528c
SEQUENCE:0
LAST-MODIFIED:20210712T124258Z
SUMMARY:Cycling
DESCRIPTION:Activitats dirigides gratuïtes a l'aire lliure
LOCATION:Plaça dels Arínsols
PRIORITY:3
TRANSP:0
END:VEVENT
END:VCALENDAR
