BEGIN:VCALENDAR
PRODID:-//AT Content Types//AT Event//EN
VERSION:2.0
METHOD:PUBLISH
BEGIN:VEVENT
DTSTAMP:20210817T202422Z
CREATED:20210625T094936Z
UID:ATEvent-7c2c958b091d42539422410e8254c8c8
LAST-MODIFIED:20210712T124241Z
SUMMARY:Cycling
DTSTART:20210818T170000Z
DTEND:20210818T191500Z
DESCRIPTION:Activitats dirigides gratuïtes a l'aire lliure
LOCATION:Plaça dels Arínsols
CATEGORIES:Esports
CLASS:PUBLIC
END:VEVENT
END:VCALENDAR
