BEGIN:VCALENDAR
PRODID:-//AT Content Types//AT Event//EN
VERSION:2.0
METHOD:PUBLISH
BEGIN:VEVENT
DTSTAMP:20210829T064256Z
CREATED:20160913T111615Z
UID:ATEvent-2257468176374ab290d9a8597f86dd6c
LAST-MODIFIED:20161031T105530Z
SUMMARY:Convocatòria VII Premi de narrativa fantàstica i de terror d'Encamp
DTSTART:20160913T070000Z
DTEND:20161031T190000Z
LOCATION:Biblioteca Comunal d'Encamp
CATEGORIES:Premis i concursos
CONTACT:Alfons Codina\, Biblioteca comunal d'Encamp\, al telèfon 732 704
CLASS:PUBLIC
END:VEVENT
END:VCALENDAR
