BEGIN:VCALENDAR
PRODID:-//AT Content Types//AT Event//EN
VERSION:1.0
BEGIN:VEVENT
DTSTART:20170522T090500Z
DTEND:20171030T190000Z
DCREATED:20170522T090724Z
UID:ATEvent-0dceea620db245d2a1bd9396a7726321
SEQUENCE:0
LAST-MODIFIED:20171031T080619Z
SUMMARY:Convocatòria al VIII Premi de narrativa fantàstica i de terror d'Encamp
DESCRIPTION:T'atreveixes a fer-nos passar una experiència sense lími
 ts?
LOCATION:Biblioteca Comunal d'Encamp
PRIORITY:3
TRANSP:0
END:VEVENT
END:VCALENDAR
