BEGIN:VCALENDAR
PRODID:-//AT Content Types//AT Event//EN
VERSION:2.0
METHOD:PUBLISH
BEGIN:VEVENT
DTSTAMP:20210829T064033Z
CREATED:20180821T093235Z
UID:ATEvent-4331799d2e6e4cc9a99396d174cbb777
LAST-MODIFIED:20180821T093241Z
SUMMARY:Convocatòria al IX Premi de narrativa fantàstica i de terror
DTSTART:20180821T093000Z
DTEND:20181119T180000Z
LOCATION:Biblioteques comunals d'Encamp i del Pas de la Casa
CATEGORIES:Premis i concursos
CONTACT:Biblioteca Comunal d'Encamp\, al telèfon 732 704\, biblioteca@encamp.ad
CLASS:PUBLIC
END:VEVENT
END:VCALENDAR
