BEGIN:VCALENDAR
PRODID:-//AT Content Types//AT Event//EN
VERSION:2.0
METHOD:PUBLISH
BEGIN:VEVENT
DTSTAMP:20210829T064734Z
CREATED:20190114T163906Z
UID:ATEvent-0f036e19984d4ead95c5a8c5252f6d1a
LAST-MODIFIED:20190114T171311Z
SUMMARY:Contacontes: 'El tresor més gran del món'
DTSTART:20190124T170000Z
DTEND:20190124T190000Z
DESCRIPTION:Vanessa Silva ens explica les aventures de dos ratolins qu
 e viuen a la biblioteca Sant Agustí de la Seu d’Urgell. Conte de Ma
 riona Mateu i Carolina Botella.
LOCATION:Biblioteca comunal d'Encamp
CATEGORIES:Activitats culturals, Biblioteca
CONTACT:Àrea de Cultura\,  (+376) 732 704\, biblioteca@encamp.ad
CLASS:PUBLIC
END:VEVENT
END:VCALENDAR
