BEGIN:VCALENDAR
PRODID:-//AT Content Types//AT Event//EN
VERSION:2.0
METHOD:PUBLISH
BEGIN:VEVENT
DTSTAMP:20210827T141456Z
CREATED:20210421T122246Z
UID:ATEvent-b3edb9ee50d04e28afb0607429959c4f
LAST-MODIFIED:20210611T094756Z
SUMMARY:Conferència astronomia Joan Pujol
DTSTART:20210615T160000Z
DTEND:20210615T170000Z
LOCATION:Biblioteca Comunal del Pas de la Casa
CATEGORIES:Activitats culturals
CONTACT:Biblioteca Comunal del Pas de la Casa\, +376856787\, bibliotecapas@encamp.ad
CLASS:PUBLIC
END:VEVENT
END:VCALENDAR
