BEGIN:VCALENDAR
PRODID:-//AT Content Types//AT Event//EN
VERSION:2.0
METHOD:PUBLISH
BEGIN:VEVENT
DTSTAMP:20210827T141507Z
CREATED:20210421T120548Z
UID:ATEvent-8a0773c30ddd48fd9e9ce07b60f2543c
LAST-MODIFIED:20210602T184705Z
SUMMARY:Taller Dia mundial del Medi Ambient
DTSTART:20210604T153000Z
DTEND:20210604T163000Z
LOCATION:Biblioteca Comunal del Pas de la Casa
CATEGORIES:Activitats culturals
CONTACT:Biblioteca Comunal del Pas de la Casa\, +376856787\, bibliotecapas@encamp.ad
CLASS:PUBLIC
END:VEVENT
END:VCALENDAR
