BEGIN:VCALENDAR
PRODID:-//AT Content Types//AT Event//EN
VERSION:1.0
BEGIN:VEVENT
DTSTART:20200930T180000Z
DTEND:20200930T190000Z
DCREATED:20200918T104830Z
UID:ATEvent-689c6238e1094420950fcfc305519a6d
SEQUENCE:0
LAST-MODIFIED:20200923T075353Z
SUMMARY:Club de lectura virtual "Una lectora poc corrent" d'Alan Bennet
PRIORITY:3
TRANSP:0
END:VEVENT
END:VCALENDAR
