BEGIN:VCALENDAR
PRODID:-//AT Content Types//AT Event//EN
VERSION:2.0
METHOD:PUBLISH
BEGIN:VEVENT
DTSTAMP:20210817T203049Z
CREATED:20210421T102441Z
UID:ATEvent-4af4c9f16c4d487bb73d05fca3c38825
LAST-MODIFIED:20210421T102655Z
SUMMARY:Club de lectura virtual dedicat al llibre “Venjaré la teva mort” de Carme Riera.
DTSTART:20210929T170000Z
DTEND:20210929T183000Z
LOCATION:Biblioteca Comunal d'Encamp
CATEGORIES:Activitats culturals
CONTACT:Biblioteca Comunal d'Encamp\, +376732704\, biblioteca@encamp.ad
CLASS:PUBLIC
END:VEVENT
END:VCALENDAR
