BEGIN:VCALENDAR
PRODID:-//AT Content Types//AT Event//EN
VERSION:1.0
BEGIN:VEVENT
DTSTART:20210528T173000Z
DTEND:20210528T183000Z
DCREATED:20210421T095325Z
UID:ATEvent-4364c2b79e5d427f9d6751184c1041ba
SEQUENCE:0
LAST-MODIFIED:20210421T095353Z
SUMMARY:Club de lectura virtual “Un petó de mandarina”
LOCATION:Biblioteca Comunal d'Encamp
PRIORITY:3
TRANSP:0
END:VEVENT
END:VCALENDAR
