BEGIN:VCALENDAR
PRODID:-//AT Content Types//AT Event//EN
VERSION:2.0
METHOD:PUBLISH
BEGIN:VEVENT
DTSTAMP:20210829T121932Z
CREATED:20210323T153513Z
UID:ATEvent-72e553f82f814c89938a618cdf45aac0
LAST-MODIFIED:20210630T101227Z
SUMMARY:Autocinema Pas de la Casa - "Abominable"
DTSTART:20210706T200000Z
DTEND:20210706T213000Z
DESCRIPTION:Encamp en Clau de Llum
CATEGORIES:Espectacles
CONTACT:Departament de Cultura d'Encamp\, +376731490\, cultura@encamp.ad
CLASS:PUBLIC
END:VEVENT
END:VCALENDAR
