BEGIN:VCALENDAR
PRODID:-//AT Content Types//AT Event//EN
VERSION:2.0
METHOD:PUBLISH
BEGIN:VEVENT
DTSTAMP:20210829T121941Z
CREATED:20210323T155749Z
UID:ATEvent-f6e8824ffc064f489a21d3e838da9e07
LAST-MODIFIED:20210630T101939Z
SUMMARY:Autocinema Encamp - "Las aventuras del Doctor Dotlitle"
DTSTART:20210714T200000Z
DTEND:20210714T213000Z
DESCRIPTION:Encamp en Clau de Llum
LOCATION:Aparcament de Sant Miquel
CATEGORIES:Espectacles
CONTACT:Departament de Cultura d'Encamp\, +376731490\, cultura@encamp.ad
CLASS:PUBLIC
END:VEVENT
END:VCALENDAR
