BEGIN:VCALENDAR
PRODID:-//AT Content Types//AT Event//EN
VERSION:2.0
METHOD:PUBLISH
BEGIN:VEVENT
DTSTAMP:20210829T121654Z
CREATED:20200702T085416Z
UID:ATEvent-b8973e5f28534e2eb74619769f291812
LAST-MODIFIED:20200803T144341Z
SUMMARY:Actuació musical de Patxi Leiva
DTSTART:20200806T180000Z
DTEND:20200806T193000Z
DESCRIPTION:Encamp en Clau de llum a Enacamp
LOCATION:Plaça de Sant Miquel
CATEGORIES:Espectacles
CONTACT:Departament de Cultura\, cultura@encamp.ad
URL:http://www.patxileiva.com
CLASS:PUBLIC
END:VEVENT
END:VCALENDAR
