BEGIN:VCALENDAR
PRODID:-//AT Content Types//AT Event//EN
VERSION:1.0
BEGIN:VEVENT
DTSTART:20200813T180000Z
DTEND:20200813T193000Z
DCREATED:20200706T121712Z
UID:ATEvent-a0fa5a4dc0f44933a2731ab3d24cdcd4
SEQUENCE:0
LAST-MODIFIED:20200706T121738Z
SUMMARY:Actuació musical de Inma Ortiz & Guillermo Cides
DESCRIPTION:Encamp en Clau de llum a Encamp
LOCATION:l’Església de Sant Romà
PRIORITY:3
TRANSP:0
END:VEVENT
END:VCALENDAR
