BEGIN:VCALENDAR
PRODID:-//AT Content Types//AT Event//EN
VERSION:2.0
METHOD:PUBLISH
BEGIN:VEVENT
DTSTAMP:20210829T121521Z
CREATED:20200702T091853Z
UID:ATEvent-2c57187bbafc4883bcb4a0aedd136391
LAST-MODIFIED:20200825T093605Z
SUMMARY:Activitats Familiars amb Festa XaxiPiruli
DTSTART:20200818T150000Z
DTEND:20200818T163000Z
DESCRIPTION:Tardes d'estiu a Encamp
LOCATION:Prat Gran
CATEGORIES:Espectacles
CLASS:PUBLIC
END:VEVENT
END:VCALENDAR
