BEGIN:VCALENDAR
PRODID:-//AT Content Types//AT Event//EN
VERSION:2.0
METHOD:PUBLISH
BEGIN:VEVENT
DTSTAMP:20210829T122959Z
CREATED:20170216T164454Z
UID:ATEvent-71b447971f5f42c98839ba2bbce8d01f
LAST-MODIFIED:20170220T120402Z
SUMMARY:7a kdda del Club VW d'Andorra
DTSTART:20170226T080000Z
DTEND:20170226T190000Z
LOCATION:Prat Gran d'Encamp
CATEGORIES:Concentracions i trobades
CONTACT:Departament de Turisme\, al 731 000
CLASS:PUBLIC
END:VEVENT
END:VCALENDAR
