BEGIN:VCALENDAR
PRODID:-//AT Content Types//AT Event//EN
VERSION:2.0
METHOD:PUBLISH
BEGIN:VEVENT
DTSTAMP:20210829T064303Z
CREATED:20160928T080420Z
UID:ATEvent-eb451bbbb2764b39a904e91f16d6fff7
LAST-MODIFIED:20160928T080425Z
SUMMARY:5è Campionat de Scrabble en català a Encamp i al Pas de la Casa
DTSTART:20161024T160000Z
DTEND:20161024T200000Z
DESCRIPTION:En el marc del Dia internacional de les biblioteques\, que
  es commemora el 24 d’octubre\, se celebrarà el Campionat de Scrabb
 le en català a Encamp i al Pas de la Casa.
LOCATION:Biblioteques comunals d'Encamp i del Pas de la Casa
CATEGORIES:Premis i concursos
CONTACT:Alfons Codina\, Biblioteca Comunal d'Encamp\, al telèfon 732 704\, biblioteca@encamp.ad
CLASS:PUBLIC
END:VEVENT
END:VCALENDAR
